BEGIN:VCALENDAR
VERSION:2.0
PRODID:icalendar-ruby
CALSCALE:GREGORIAN
BEGIN:VEVENT
DTSTAMP:20210122T073456Z
UID:f529467b-1e7e-45ea-af5e-2fc40824fc78
DTSTART;TZID=Pacific/Auckland:20210124T140000
DTEND;TZID=Pacific/Auckland:20210124T143000
DESCRIPTION:Property ID# 499621
SUMMARY:Openhome for 9 Rawhiti Street
END:VEVENT
END:VCALENDAR
